BEGIN:VCALENDAR
VERSION:2.0
PRODID:Imitheme.com
BEGIN:VEVENT
UID:20191219T082203-1230981600
DTSTAMP:20191219T082203
DTSTART:20170423T103000Z
DTEND:20170423T120000Z
SUMMARY:High Mass
LOCATION:
DESCRIPTION: 
END:VEVENT
END:VCALENDAR
