BEGIN:VCALENDAR
VERSION:2.0
PRODID:Imitheme.com
BEGIN:VEVENT
UID:20180121T131157-866950046
DTSTAMP:20180121T131157
DTSTART:20180121T103000Z
DTEND:20180225T235900Z
SUMMARY:January & February Services
LOCATION:
DESCRIPTION: <strong>21 January,</strong> <strong>3rd Sunday of the Epiphany: </strong>10.30am High Mass followed by morning tea

<strong>28 January, Presentation of Jesus in the Temple: </strong>10.30am High Mass followed by morning tea

<strong>4</strong><strong> February, 5th Sunday in Ordinary Time: </strong>8am Mass recommences

10.30am Family Mass followed by  morning tea

<strong>11 February, 6th Sunday in Ordinary Time: </strong>8.00am Mass,

10.30am High Mass followed by morning tea

8.00pm Taizé service recommences

<strong>14 February, Ash Wednesday </strong>6.30pm Solemn Mass with Imposition of Ashes

<strong>18 February, Lent 1:</strong> 8.00am Mass

10.30am High Mass followed by morning tea

4.30pm Selwyn College Commencement Service

8.00pm Taizé Night Prayer

<strong>25 February, Lent 2: </strong>8.00am Mass

10.30am High Mass with Baptism followed by morning tea

8.00pm Taizé Night Prayer

&nbsp;
END:VEVENT
END:VCALENDAR
