BEGIN:VCALENDAR
VERSION:2.0
PRODID:Imitheme.com 
BEGIN:VEVENT
UID:20191219T0821581113469055
DTSTAMP;TZID=UTC:20191219T082158
DTSTART;TZID=UTC:20170423T103000
DTEND;TZID=UTC:20170423T120000
SUMMARY:High Mass
LOCATION:
DESCRIPTION:
END:VEVENT
END:VCALENDAR
