BEGIN:VCALENDAR
VERSION:2.0
PRODID:Imitheme.com 
BEGIN:VEVENT
UID:20191219T0822181240039923
DTSTAMP;TZID=UTC:20191219T082218
DTSTART;TZID=UTC:20180211T200000
DTEND;TZID=UTC:20180211T204500
SUMMARY:Taizé
LOCATION:
DESCRIPTION:Taizé prayer in the evening consists of singing songs from the <a href=\"http\://www.taize.fr/en\" target=\"_blank\" rel=\"noopener noreferrer\">Taizé community</a>\, centered around contemplative prayer. This is a beautiful service done by candlelight\, and is popular with students as a time during their studies where they can draw near to God and centre themselves for the week ahead. These services will recommence on the 10th February.
END:VEVENT
END:VCALENDAR
